BEGIN:VCALENDAR
VERSION:2.0
PRODID:-//AMT - ECPv6.15.20//NONSGML v1.0//EN
CALSCALE:GREGORIAN
METHOD:PUBLISH
X-ORIGINAL-URL:https://www.amt-mep.org
X-WR-CALDESC:Events for AMT
REFRESH-INTERVAL;VALUE=DURATION:PT1H
X-Robots-Tag:noindex
X-PUBLISHED-TTL:PT1H
BEGIN:VTIMEZONE
TZID:America/New_York
BEGIN:DAYLIGHT
TZOFFSETFROM:-0500
TZOFFSETTO:-0400
TZNAME:EDT
DTSTART:20250309T070000
END:DAYLIGHT
BEGIN:STANDARD
TZOFFSETFROM:-0400
TZOFFSETTO:-0500
TZNAME:EST
DTSTART:20251102T060000
END:STANDARD
BEGIN:DAYLIGHT
TZOFFSETFROM:-0500
TZOFFSETTO:-0400
TZNAME:EDT
DTSTART:20260308T070000
END:DAYLIGHT
BEGIN:STANDARD
TZOFFSETFROM:-0400
TZOFFSETTO:-0500
TZNAME:EST
DTSTART:20261101T060000
END:STANDARD
BEGIN:DAYLIGHT
TZOFFSETFROM:-0500
TZOFFSETTO:-0400
TZNAME:EDT
DTSTART:20270314T070000
END:DAYLIGHT
BEGIN:STANDARD
TZOFFSETFROM:-0400
TZOFFSETTO:-0500
TZNAME:EST
DTSTART:20271107T060000
END:STANDARD
END:VTIMEZONE
BEGIN:VEVENT
DTSTART;TZID=America/New_York:20260414T080000
DTEND;TZID=America/New_York:20260414T163000
DTSTAMP:20260424T222012
CREATED:20260205T153215Z
LAST-MODIFIED:20260310T224628Z
UID:12137-1776153600-1776184200@www.amt-mep.org
SUMMARY:AI for Advanced Manufacturing
DESCRIPTION:AI Training for Manufacturing \nThis Generative AI training includes a blend of instructional content\, live demonstrations\, and facilitated exercises. Participants will work individually and in small groups to learn about AI and to identify company problems that could be solved using AI tools. \nParticipants will build foundational knowledge of how Generative AI works and how to use it effectively through strong prompts. They will also learn to identify high-value AI applications for their facility and day-to-day work and prioritize the projects. \n \nStudents will:\n• Learn through a blend of live demonstrations\, facilitated exercises\, and peer discussions.\n• Work individually and in small groups. \nOutline of Course Topics:   \n\nGenerative AI Overview – Understanding AI and its evolution\nPrompt Engineering – Techniques for effective communication with AI models\nApplied Manufacturing Use Cases for Generative AI – Understanding how AI capabilities can support manufacturing operations across multiple departments\nData Preparation and Analysis – Using AI for data cleaning\, summarization\, and analysis\nCreative Content Generation and Vision Capabilities – Generating and interpreting text\, images\, and video with AI\nInformation Verification Methods – Methods to ensure AI output accuracy and validity\nData Security and AI Policy Considerations\nParticipant Identification of Potential Company AI Projects\n\nTarget Audience: Leadership team members and employees that conduct computer work \nRegister Now
URL:https://www.amt-mep.org/event/ai-for-advanced-manufacturing/
LOCATION:Corning Community College – Airport Corporate Park Campus\, 360 Daniel Zenker Drive\, Room 104\, Horseheads\, New York\, 14845
CATEGORIES:Event,Featured
ORGANIZER;CN="Jeff Reed":MAILTO:jreed@amt-mep.org
END:VEVENT
BEGIN:VEVENT
DTSTART;TZID=America/New_York:20260428T140000
DTEND;TZID=America/New_York:20260428T153000
DTSTAMP:20260424T222012
CREATED:20260316T203734Z
LAST-MODIFIED:20260317T194248Z
UID:12215-1777384800-1777390200@www.amt-mep.org
SUMMARY:A Solution for Businesses
DESCRIPTION:Manufacturing Roundtable \nRegistered Apprenticeships Registered apprenticeship benefits: \n\nUpskill your workforce\nCreate a pipeline of qualified workers\nIncreased efficiency and productivity\nIncreased employee retention and attendance\nImproved employer/employee relationships\nFunding available to support programs\n\nApril 28\, 2026\n2:00 pm – 3:30 pm Register Now
URL:https://www.amt-mep.org/event/manufacturing-roundtable-registered-apprenticeships/
LOCATION:Community Room\, 5 South College Drive\, Binghamton\, 13905\, United States
CATEGORIES:Event,Featured
ORGANIZER;CN="Ellie White":MAILTO:ewhite@greaterbinghamtonchamber.com
END:VEVENT
BEGIN:VEVENT
DTSTART;TZID=America/New_York:20260512T083000
DTEND;TZID=America/New_York:20260512T160000
DTSTAMP:20260424T222012
CREATED:20260321T210057Z
LAST-MODIFIED:20260422T160642Z
UID:12269-1778574600-1778601600@www.amt-mep.org
SUMMARY:Generative AI for Manufacturing: Use It to Drive Results
DESCRIPTION:Learn how small and medium-sized manufacturers are using generative AI to solve problems faster\, reduce costs\, and improve their bottom line.Join us for a hands-on\, in-person introductory workshop that combines practical instruction\, live demonstrations\, and interactive exercises. Participants will engage in both individual and small-group activities to explore AI capabilities and pinpoint real manufacturing challenges that can be solved using today’s AI tools. \n\nThis one-day class is being offered on either:\nTuesday\, May 12th\, 2026 or Tuesday\, June 2nd\, 2026\n8:30am to 4pm (Includes Lunch) \n5 S. College Dr.\nCommunity Room\nBinghamton\, NY 13905 \nNo Cost ~ Class size is limited so register today.\n \nREGISTER NOW\nWhat You’ll Learn \n\nGenerative AI Basics: What it is and why it matters for manufacturing\nPrompt Engineering: How to communicate effectively with AI models\nData Preparation & Analysis: Turning your data into actionable insights\nManufacturing Use Cases: Practical applications across operations\, quality\, supply chain\, engineering\, sales\, and more\nCreative & Vision Capabilities: Content generation\, image analysis\, and visual AI tools\nVerification Methods: How to validate and trust AI-generated outputs\nData Security & Policy Considerations: Protecting your business while using AI\n\nWho Should Attend \n\nOwners\, Presidents and General Managers\nOperations and Plant Managers\nEngineers\nQuality and Continuous Improvement Leaders\nSupply Chain\nHuman Resources\nSales and Marketing\nTransformation Leaders\n\nLeave with practical knowledge and clear next steps to put AI to work in your operation right now. \n\n\n\n\nEvent Registration for Generative AI for Manufacturing Class\nEvent Registration for Generative AI for Manufacturing Class\n\n\n\n\n\n\n		\n				\n		\n	Choose which class date:\n		*\n	\n						\n					 Tuesday\, May 12th\, 2026\n					\n					 Tuesday\, June 02\, 2026\n\n	\n	\n\n\n    Company Name\n        *\n    \n    \n    \n    \n\n\n    Contact Phone number\n        *\n    \n    \n    \n    \n\n\n    How many registrants\n        \n    \n    		\n		123	\n	\n    Maximum of 3 people per company. Contact us if you’d like training for more employees.\n    \n\nPlease fill out the name\, position\, and email for each participant.\n\n\n\n\n\n    Participant Name 1\n        *\n    \n    \n    \n    \n\n\n    Job Title 1\n        \n    \n    \n    \n    \n\n\n    Email 1\n        *\n    \n    \n    \n    \n\n\n\n\n\n\n\n\n\n    Participant Name 2\n        *\n    \n    \n    \n    \n\n\n    Job Title 2\n        \n    \n    \n    \n    \n\n\n    Email 2\n        *\n    \n    \n    \n    \n\n\n\n\n\n\n\n\n\n    Participant Name 3\n        *\n    \n    \n    \n    \n\n\n	Email\n		\n	\n	\n	\n	\n\n\n    Job Title 3\n        \n    \n    \n    \n    \n\n\n    Email 3\n        *\n    \n    \n    \n    \n\n\n\n\n\n\n	\n\nSubmit\n\n\n\n	\n			\n			\n				If you are human\, leave this field blank.			\n			\n		\n		\n\n\n\nΔ
URL:https://www.amt-mep.org/event/generative-ai-for-manufacturers/
LOCATION:Community Room\, 5 South College Drive\, Binghamton\, 13905\, United States
ORGANIZER;CN="Amanda Jackson":MAILTO:ajackson@amt-mep.org
END:VEVENT
END:VCALENDAR