BEGIN:VCALENDAR
VERSION:2.0
PRODID:-//AMT - ECPv6.15.20//NONSGML v1.0//EN
CALSCALE:GREGORIAN
METHOD:PUBLISH
X-WR-CALNAME:AMT
X-ORIGINAL-URL:https://www.amt-mep.org
X-WR-CALDESC:Events for AMT
REFRESH-INTERVAL;VALUE=DURATION:PT1H
X-Robots-Tag:noindex
X-PUBLISHED-TTL:PT1H
BEGIN:VTIMEZONE
TZID:America/New_York
BEGIN:DAYLIGHT
TZOFFSETFROM:-0500
TZOFFSETTO:-0400
TZNAME:EDT
DTSTART:20200308T070000
END:DAYLIGHT
BEGIN:STANDARD
TZOFFSETFROM:-0400
TZOFFSETTO:-0500
TZNAME:EST
DTSTART:20201101T060000
END:STANDARD
BEGIN:DAYLIGHT
TZOFFSETFROM:-0500
TZOFFSETTO:-0400
TZNAME:EDT
DTSTART:20210314T070000
END:DAYLIGHT
BEGIN:STANDARD
TZOFFSETFROM:-0400
TZOFFSETTO:-0500
TZNAME:EST
DTSTART:20211107T060000
END:STANDARD
BEGIN:DAYLIGHT
TZOFFSETFROM:-0500
TZOFFSETTO:-0400
TZNAME:EDT
DTSTART:20220313T070000
END:DAYLIGHT
BEGIN:STANDARD
TZOFFSETFROM:-0400
TZOFFSETTO:-0500
TZNAME:EST
DTSTART:20221106T060000
END:STANDARD
END:VTIMEZONE
BEGIN:VEVENT
DTSTART;TZID=America/New_York:20211209T130000
DTEND;TZID=America/New_York:20211209T140000
DTSTAMP:20260424T194423
CREATED:20211021T172856Z
LAST-MODIFIED:20211209T222438Z
UID:7228-1639054800-1639058400@www.amt-mep.org
SUMMARY:AMT and Tooling U-SME Webinar
DESCRIPTION:Although the event is over\,\nyou can find the webinar recording and presentation slides on this page.AMT is proud to announce a partnership with Tooling U-SME to provide you with online / hybrid manufacturing training options. \nJoin AMT and Tooling U-SME for an informative webinar where we will formally announce our partnership and provide information about the e-learning platform. \nThursday December 9th\, 20211:00 - 2:00 PM\nREGISTER\nOnline Training from AMT and Tooling U-SME offers a quick-start\, progressive road map that allows manufacturers to build career paths for employees. This online training is intended to enhance your existing on the job training\, to create a job progression plan and requires minimal preparation. \nClasses are self paced and typically take about 60 minutes to complete. They are easily and conveniently accessible on desktops and laptops or on tablets and phones by using the Tooling U-SME app. \nParticipants will be able to sign-up for a free customized trial account.
URL:https://www.amt-mep.org/event/intro-tooling-u-sme/
CATEGORIES:Event,Featured
ATTACH;FMTTYPE=image/png:https://www.amt-mep.org/wp-content/uploads/2021/08/tooling-u-logo.png
ORGANIZER;CN="Jeff DuBrava":MAILTO:jdubrava@amt-mep.org
END:VEVENT
BEGIN:VEVENT
DTSTART;VALUE=DATE:20211015
DTEND;VALUE=DATE:20211016
DTSTAMP:20260424T194423
CREATED:20210914T130047Z
LAST-MODIFIED:20211021T161913Z
UID:5488-1634256000-1634342399@www.amt-mep.org
SUMMARY:2021 NY Statewide Manufacturing Virtual Day
DESCRIPTION:  \n \n  \n \nVirtual\, Interactive\, and Statewide\n \n  \n \n2021 NY Statewide Virtual Manufacturing Day is an online event that will celebrate manufacturers from across New York State and highlight the pathways students can take toward manufacturing careers.   \nBy recognizing NYS manufacturers and building awareness of available educational and training opportunities\, 2021 NY Statewide Virtual Manufacturing Day will benefit companies\, community leaders\, educators\, high school and college students as well as economic development and manufacturing associations from across New York State.   \nSocial Media: Help jumpstart the next generation’s interest in Manufacturing. Use #MFGDay21 on social media platforms to share information on the event! \n \n  \n \n  \n \n  \n \n 
URL:https://www.amt-mep.org/event/test-event/
LOCATION:AMT Office\, 5 South College Dr.\, Binghamton\, 13905\, United States
CATEGORIES:Event
ORGANIZER;CN="Carol Miller":MAILTO:cmiller@amt-mep.og
END:VEVENT
BEGIN:VEVENT
DTSTART;TZID=America/New_York:20210811T133000
DTEND;TZID=America/New_York:20210811T140000
DTSTAMP:20260424T194423
CREATED:20210811T224623Z
LAST-MODIFIED:20211201T220343Z
UID:6089-1628688600-1628690400@www.amt-mep.org
SUMMARY:Looking to Hire a BU Intern for your Company?
DESCRIPTION:Register to attend our virtual information session with staff from the Watson Career and Alumni Connections office to learn ways that you can engage Watson College Engineering and Computer Science students.
URL:https://www.amt-mep.org/event/looking-to-hire-a-binghamton-university-engineering-or-computer-science-intern-for-your-company/
CATEGORIES:Event
ORGANIZER;CN="Carol Miller":MAILTO:cmiller@amt-mep.og
END:VEVENT
END:VCALENDAR